BEGIN:VCALENDAR
VERSION:2.0
PRODID:-//The CADET Program - ECPv6.15.20//NONSGML v1.0//EN
CALSCALE:GREGORIAN
METHOD:PUBLISH
X-WR-CALNAME:The CADET Program
X-ORIGINAL-URL:https://cadetprogram.org
X-WR-CALDESC:Events for The CADET Program
REFRESH-INTERVAL;VALUE=DURATION:PT1H
X-Robots-Tag:noindex
X-PUBLISHED-TTL:PT1H
BEGIN:VTIMEZONE
TZID:Asia/Kolkata
BEGIN:STANDARD
TZOFFSETFROM:+0530
TZOFFSETTO:+0530
TZNAME:IST
DTSTART:20220101T000000
END:STANDARD
END:VTIMEZONE
BEGIN:VEVENT
DTSTART;TZID=Asia/Kolkata:20230623T080000
DTEND;TZID=Asia/Kolkata:20230624T170000
DTSTAMP:20260421T154636
CREATED:20230611T140920Z
LAST-MODIFIED:20230622T175417Z
UID:8687-1687507200-1687626000@cadetprogram.org
SUMMARY:OTA Gwalior
DESCRIPTION:
URL:https://cadetprogram.org/event/ota-gwalior/
CATEGORIES:OTA Trainings
END:VEVENT
BEGIN:VEVENT
DTSTART;TZID=Asia/Kolkata:20230617T080000
DTEND;TZID=Asia/Kolkata:20230618T170000
DTSTAMP:20260421T154636
CREATED:20230611T131808Z
LAST-MODIFIED:20230611T140825Z
UID:8679-1686988800-1687107600@cadetprogram.org
SUMMARY:EBSB Chamba
DESCRIPTION:
URL:https://cadetprogram.org/event/ebsb-chamba/
CATEGORIES:CADET Trainings
END:VEVENT
BEGIN:VEVENT
DTSTART;TZID=Asia/Kolkata:20230617T080000
DTEND;TZID=Asia/Kolkata:20230618T170000
DTSTAMP:20260421T154636
CREATED:20230611T131744Z
LAST-MODIFIED:20230611T140840Z
UID:8677-1686988800-1687107600@cadetprogram.org
SUMMARY:EBSB Guntur
DESCRIPTION:
URL:https://cadetprogram.org/event/ebsb-guntur/
CATEGORIES:CADET Trainings
END:VEVENT
BEGIN:VEVENT
DTSTART;TZID=Asia/Kolkata:20230617T080000
DTEND;TZID=Asia/Kolkata:20230618T170000
DTSTAMP:20260421T154636
CREATED:20230611T131723Z
LAST-MODIFIED:20230611T140840Z
UID:8675-1686988800-1687107600@cadetprogram.org
SUMMARY:EBSB Mysuru
DESCRIPTION:
URL:https://cadetprogram.org/event/ebsb-mysuru/
CATEGORIES:CADET Trainings
END:VEVENT
BEGIN:VEVENT
DTSTART;TZID=Asia/Kolkata:20230617T080000
DTEND;TZID=Asia/Kolkata:20230618T170000
DTSTAMP:20260421T154636
CREATED:20230611T131639Z
LAST-MODIFIED:20230611T140840Z
UID:8672-1686988800-1687107600@cadetprogram.org
SUMMARY:EBSB Malerkotla
DESCRIPTION:Directorates: 1. Punjab\, Haryana\, Himachal Pradesh and Chandigargh2. Andhra Pradesh and Telangana
URL:https://cadetprogram.org/event/ebsb-malerkotla/
CATEGORIES:CADET Trainings
END:VEVENT
BEGIN:VEVENT
DTSTART;TZID=Asia/Kolkata:20230603T080000
DTEND;TZID=Asia/Kolkata:20230604T170000
DTSTAMP:20260421T154636
CREATED:20230611T131414Z
LAST-MODIFIED:20230611T140841Z
UID:8670-1685779200-1685898000@cadetprogram.org
SUMMARY:ALC Kamrup
DESCRIPTION:
URL:https://cadetprogram.org/event/alc-kamrup/
CATEGORIES:CADET Trainings
END:VEVENT
BEGIN:VEVENT
DTSTART;TZID=Asia/Kolkata:20230527T080000
DTEND;TZID=Asia/Kolkata:20230528T170000
DTSTAMP:20260421T154636
CREATED:20230611T131350Z
LAST-MODIFIED:20230611T140841Z
UID:8668-1685174400-1685293200@cadetprogram.org
SUMMARY:CATC Dibrugarh
DESCRIPTION:
URL:https://cadetprogram.org/event/catc-dibrugarh-2/
CATEGORIES:CADET Trainings
END:VEVENT
BEGIN:VEVENT
DTSTART;TZID=Asia/Kolkata:20230520T080000
DTEND;TZID=Asia/Kolkata:20230521T170000
DTSTAMP:20260421T154636
CREATED:20230611T131318Z
LAST-MODIFIED:20230611T140841Z
UID:8666-1684569600-1684688400@cadetprogram.org
SUMMARY:CATC Agartala
DESCRIPTION:
URL:https://cadetprogram.org/event/catc-agartala/
CATEGORIES:CADET Trainings
END:VEVENT
BEGIN:VEVENT
DTSTART;TZID=Asia/Kolkata:20230516T080000
DTEND;TZID=Asia/Kolkata:20230517T170000
DTSTAMP:20260421T154636
CREATED:20230610T124606Z
LAST-MODIFIED:20230611T140842Z
UID:8549-1684224000-1684342800@cadetprogram.org
SUMMARY:CATC Tenga
DESCRIPTION:
URL:https://cadetprogram.org/event/catc-tenga/
CATEGORIES:CADET Trainings
END:VEVENT
BEGIN:VEVENT
DTSTART;TZID=Asia/Kolkata:20230513T080000
DTEND;TZID=Asia/Kolkata:20230514T170000
DTSTAMP:20260421T154636
CREATED:20230610T124528Z
LAST-MODIFIED:20230611T140842Z
UID:8547-1683964800-1684083600@cadetprogram.org
SUMMARY:CATC Barpeta
DESCRIPTION:
URL:https://cadetprogram.org/event/catc-barpeta/
CATEGORIES:CADET Trainings
END:VEVENT
BEGIN:VEVENT
DTSTART;TZID=Asia/Kolkata:20230512T080000
DTEND;TZID=Asia/Kolkata:20230513T170000
DTSTAMP:20260421T154636
CREATED:20230610T124449Z
LAST-MODIFIED:20230611T140842Z
UID:8544-1683878400-1683997200@cadetprogram.org
SUMMARY:CATC Dibrugarh
DESCRIPTION:
URL:https://cadetprogram.org/event/catc-dibrugarh/
CATEGORIES:CADET Trainings
END:VEVENT
END:VCALENDAR